BEGIN:VCALENDAR
VERSION:2.0
PRODID:-//wp-events-plugin.com//7.2.3.1//EN
TZID:Europe/Berlin
X-WR-TIMEZONE:Europe/Berlin
BEGIN:VEVENT
UID:14@logosaurus.de
DTSTART;TZID=Europe/Berlin:20230318T083000
DTEND;TZID=Europe/Berlin:20230318T160000
DTSTAMP:20230107T220208Z
URL:https://logosaurus.de/termine/lehrerinnen-paedagoginnen-modul-2-grobmo
 torik-2-feinmotorik/
SUMMARY:Lehrer*innen & Pädagog*innen Modul 2: Grobmotorik 2 & Feinmotorik
DESCRIPTION:Inhalte:\n\n 	ausgewählte frühkindliche Reflexe: Grobmotorik 
 &amp\; Feinmotorik (Hände &amp\; Füße) (Moro-Reflex\, Landau-Reflex\, s
 pinaler Galantreflex\, Palmar-Reflex\, Plantar-Reflex)\n 	Diagnostik: Beob
 achtungsbogen &amp\; Reflextests\n 	Gruppen-Bewegungskonzept zur nachträg
 lichen Integration restaktiver frühkindlicher Bewegungsmuster\n\nBuchung 
 hier -&gt\; Lehrer*innen &amp\; Pädagog*innen – Lisa und der Logosauru
 s
ATTACH;FMTTYPE=image/jpeg:https://logosaurus.de/wp-content/uploads/2023/01
 /MicrosoftTeams-image.png
END:VEVENT
BEGIN:VTIMEZONE
TZID:Europe/Berlin
X-LIC-LOCATION:Europe/Berlin
BEGIN:STANDARD
DTSTART:20221030T020000
TZOFFSETFROM:+0200
TZOFFSETTO:+0100
TZNAME:CET
END:STANDARD
END:VTIMEZONE
END:VCALENDAR